BEGIN:VCALENDAR
VERSION:2.0
PRODID:-//A M S Q - ECPv6.15.13.1//NONSGML v1.0//EN
CALSCALE:GREGORIAN
METHOD:PUBLISH
X-WR-CALNAME:A M S Q
X-ORIGINAL-URL:https://www.24hvttcrapauds.com/AMSQ
X-WR-CALDESC:Évènements pour A M S Q
REFRESH-INTERVAL;VALUE=DURATION:PT1H
X-Robots-Tag:noindex
X-PUBLISHED-TTL:PT1H
BEGIN:VTIMEZONE
TZID:Europe/Paris
BEGIN:DAYLIGHT
TZOFFSETFROM:+0100
TZOFFSETTO:+0200
TZNAME:CEST
DTSTART:20250330T010000
END:DAYLIGHT
BEGIN:STANDARD
TZOFFSETFROM:+0200
TZOFFSETTO:+0100
TZNAME:CET
DTSTART:20251026T010000
END:STANDARD
BEGIN:DAYLIGHT
TZOFFSETFROM:+0100
TZOFFSETTO:+0200
TZNAME:CEST
DTSTART:20260329T010000
END:DAYLIGHT
BEGIN:STANDARD
TZOFFSETFROM:+0200
TZOFFSETTO:+0100
TZNAME:CET
DTSTART:20261025T010000
END:STANDARD
BEGIN:DAYLIGHT
TZOFFSETFROM:+0100
TZOFFSETTO:+0200
TZNAME:CEST
DTSTART:20270328T010000
END:DAYLIGHT
BEGIN:STANDARD
TZOFFSETFROM:+0200
TZOFFSETTO:+0100
TZNAME:CET
DTSTART:20271031T010000
END:STANDARD
END:VTIMEZONE
BEGIN:VEVENT
DTSTART;TZID=Europe/Paris:20260418T160000
DTEND;TZID=Europe/Paris:20260425T120000
DTSTAMP:20260420T121615
CREATED:20251203T071010Z
LAST-MODIFIED:20251203T071309Z
UID:10127-1776528000-1777118400@www.24hvttcrapauds.com
SUMMARY:Séjour club 2026
DESCRIPTION:Le séjour club 2026 aura lieu à Vaison la Romaine. Tous les membres peuvent participer.\nAttention\, les enfants doivent être accompagnés d’un de leurs parents.\n			\n \n 
URL:https://www.24hvttcrapauds.com/AMSQ/event/sejour-club-2026/
LOCATION:Le Hameau des oliviers\, 1212 Chem. de Saumelongue\, Vaison-la-Romaine\, 84110\, France
ATTACH;FMTTYPE=image/jpeg:https://www.24hvttcrapauds.com/AMSQ/wp-content/uploads/2025/12/AdobeStock_73530966-1024x619-1.jpeg
ORGANIZER;CN="AMSQ":MAILTO:administrateur@24hvttcrapauds.com
END:VEVENT
BEGIN:VEVENT
DTSTART;TZID=Europe/Paris:20260605T180000
DTEND;TZID=Europe/Paris:20260605T180000
DTSTAMP:20260420T121615
CREATED:20251203T070031Z
LAST-MODIFIED:20251203T070129Z
UID:10124-1780682400-1780682400@www.24hvttcrapauds.com
SUMMARY:Fête du club
DESCRIPTION:Venez participer à la fête du club 2026.\nVous apportez les salades\, les desserts et votre bonne humeur\, le club s’occupe des grillades et des boissons.
URL:https://www.24hvttcrapauds.com/AMSQ/event/fete-du-club-2/
LOCATION:Gîte des crapauds Lessy\, route de Plappeville\, Lessy\, France
ORGANIZER;CN="AMSQ":MAILTO:administrateur@24hvttcrapauds.com
END:VEVENT
BEGIN:VEVENT
DTSTART;TZID=Europe/Paris:20260606T070000
DTEND;TZID=Europe/Paris:20260607T150000
DTSTAMP:20260420T121615
CREATED:20251203T065713Z
LAST-MODIFIED:20260210T174455Z
UID:10122-1780729200-1780844400@www.24hvttcrapauds.com
SUMMARY:Les traces d'Aventure Mont Saint Quentin
DESCRIPTION:Venez participer à weekend de vélo sur les traces du Mont Saint Quentin et alentours.\nIl y en a pour tous\, de la rando familiale à la rando longue distance. Enfants\, adultes\, filles et garçons\, même les chiens sont acceptés.
URL:https://www.24hvttcrapauds.com/AMSQ/event/les-traces-daventure-mont-saint-quentin/
LOCATION:Gîte des crapauds Lessy\, route de Plappeville\, Lessy\, France
ATTACH;FMTTYPE=image/jpeg:https://www.24hvttcrapauds.com/AMSQ/wp-content/uploads/2025/12/les-traces-logo-Paul.jpg
ORGANIZER;CN="AMSQ":MAILTO:administrateur@24hvttcrapauds.com
END:VEVENT
END:VCALENDAR